BEGIN:VCALENDAR
PRODID:-//kirchenweb.ch gmbh//veranstaltungsausgabe v2.0//DE
VERSION:2.0
METHOD:PUBLISH
BEGIN:VEVENT
DTSTART:20260607T073000Z
DTEND:20260607T083000Z
LOCATION:Ref. Kirche Kriegstetten\, Dornackerstrasse 2\, 4566 Kriegstetten
TRANSP:OPAQUE
SEQUENCE:0
UID:10005-veranstaltung@ref-wasseramt.ch
DTSTAMP:20250926T075747Z
DESCRIPTION:Kontakt: Pfr. Sigrid Wübker\n\nWeitere Infos:
  https://www.ref-wasseramt.ch/veranstaltung/10005
SUMMARY:Gottesdienst mit Abendmahl Kriegstetten
PRIORITY:5
X-MICROSOFT-CDO-IMPORTANCE:1
CLASS:PUBLIC
END:VEVENT
END:VCALENDAR
