BEGIN:VCALENDAR
PRODID:-//kirchenweb.ch gmbh//veranstaltungsausgabe v2.0//DE
VERSION:2.0
METHOD:PUBLISH
BEGIN:VEVENT
DTSTART:20260703T094500Z
DTEND:20260703T113000Z
LOCATION:Reformierte Kirche Zuchwil\, Bühlstrasse 4\, 4528 Zuchwil
TRANSP:OPAQUE
SEQUENCE:0
UID:10036-veranstaltung@ref-wasseramt.ch
DTSTAMP:20251022T121424Z
DESCRIPTION:Zum Mittagstisch sind alle\, die gerne in Gemeinschaft ein
  einfaches Essen geniessen\, herzlich eingeladen. Anmeldung jeweils bis
  Montagabend.\n\nPreise:\nKinder bis 6 Jahre: gratis\nKinder 7 - 11
  Jahre:	CHF 5.-\nab 12 Jahre: CHF 12.-\nFamilien: CHF 20.-\n\n\n\nKontakt:
  Bernadette Strähl\nSozialdiakon Matthias Weber\n\nWeitere Infos:
  https://www.ref-wasseramt.ch/veranstaltung/10036
SUMMARY:Mittagstisch Zuchwil - Zäme ässe und zäme si
PRIORITY:5
X-MICROSOFT-CDO-IMPORTANCE:1
CLASS:PUBLIC
END:VEVENT
END:VCALENDAR
