BEGIN:VCALENDAR
PRODID:-//kirchenweb.ch gmbh//veranstaltungsausgabe v2.0//DE
VERSION:2.0
METHOD:PUBLISH
BEGIN:VEVENT
DTSTART:20260430T170000Z
DTEND:20260430T180000Z
LOCATION:Summerhus Subingen\, Summerhusweg 5 \, 4553 Subingen
TRANSP:OPAQUE
SEQUENCE:0
UID:10094-veranstaltung@ref-wasseramt.ch
DTSTAMP:20251103T144145Z
DESCRIPTION:Bei Taizémusik\, Texten und viel Stille wollen wir wieder zur
  Ruhe kommen- Innehalten- Frieden finden. Es braucht weder Anmeldung noch
  Vorkenntnisse. Einfach Kommen und Da-sein genügt.\n\nKontakt: Melanie
  Pauly /SD Margrit Streit / Monika Stauffer / Rahel von Allmen\n\nWeitere
  Infos: https://www.ref-wasseramt.ch/veranstaltung/10094
SUMMARY:Stille Auszeit am Abend im Summerhus Subingen
PRIORITY:5
X-MICROSOFT-CDO-IMPORTANCE:1
CLASS:PUBLIC
END:VEVENT
END:VCALENDAR
