BEGIN:VCALENDAR
PRODID:-//kirchenweb.ch gmbh//veranstaltungsausgabe v2.0//DE
VERSION:2.0
METHOD:PUBLISH
BEGIN:VEVENT
DTSTART:20261110T140000Z
DTEND:20261110T160000Z
LOCATION:KGH Aeschi\, \,
TRANSP:OPAQUE
SEQUENCE:0
UID:10146-veranstaltung@ref-wasseramt.ch
DTSTAMP:20251101T144158Z
DESCRIPTION:Kontakt: Sandra Argovis\n\nWeitere Infos:
  https://www.ref-wasseramt.ch/veranstaltung/10146
SUMMARY:Vorbereitung Generationen Mittagstisch
PRIORITY:5
X-MICROSOFT-CDO-IMPORTANCE:1
CLASS:PUBLIC
END:VEVENT
END:VCALENDAR
