BEGIN:VCALENDAR
PRODID:-//kirchenweb.ch gmbh//veranstaltungsausgabe v2.0//DE
VERSION:2.0
METHOD:PUBLISH
BEGIN:VEVENT
DTSTART:20260527T063000Z
DTEND:20260527T130000Z
LOCATION:KGH Aeschi\, \,
TRANSP:OPAQUE
SEQUENCE:0
UID:10148-veranstaltung@ref-wasseramt.ch
DTSTAMP:20251101T144254Z
DESCRIPTION:Kontakt: Sabine Elsener\n\nWeitere Infos:
  https://www.ref-wasseramt.ch/veranstaltung/10148
SUMMARY:Generationen Mittagstisch
PRIORITY:5
X-MICROSOFT-CDO-IMPORTANCE:1
CLASS:PUBLIC
END:VEVENT
END:VCALENDAR
