BEGIN:VCALENDAR
PRODID:-//kirchenweb.ch gmbh//veranstaltungsausgabe v2.0//DE
VERSION:2.0
METHOD:PUBLISH
BEGIN:VEVENT
DTSTART;VALUE=DATE:20260911
DTEND;VALUE=DATE:20260912
LOCATION:Reformierte Kirche Derendingen\, Hauptstrasse 41\, 4552
  Derendingen
TRANSP:OPAQUE
SEQUENCE:0
UID:10176-veranstaltung@ref-wasseramt.ch
DTSTAMP:20251104T154652Z
DESCRIPTION:nähre Angaben folgen mit der Einladung im Sommer\n\nKontakt:
  Pfarrer Samuel Stucki\n\nWeitere Infos:
  https://www.ref-wasseramt.ch/veranstaltung/10176
SUMMARY:Seniorenfahrt ins Bärnbiet Derendingen
PRIORITY:5
X-MICROSOFT-CDO-IMPORTANCE:1
CLASS:PUBLIC
END:VEVENT
END:VCALENDAR
