BEGIN:VCALENDAR
PRODID:-//kirchenweb.ch gmbh//veranstaltungsausgabe v2.0//DE
VERSION:2.0
METHOD:PUBLISH
BEGIN:VEVENT
DTSTART:20260717T100000Z
DTEND:20260717T110000Z
LOCATION:THARAD Restaurant\, Hauptstrasse 50\, 4552 Derendingen
TRANSP:OPAQUE
SEQUENCE:0
UID:10185-veranstaltung@ref-wasseramt.ch
DTSTAMP:20251104T161639Z
DESCRIPTION:Zum Mittagstisch sind alle\, die gerne in Gemeinschaft ein
  feines Essen genissen woll\, herzich willkommen.\nPreise: Menü
  (Fleischmenü) CHF 15.50 \n             Salat oder Suppe CHF 3.30\n      
        Hahnenwasser gratis\nKaffee offeriert von der Reformierten
  Kirchgemeinde Wasseramt und dem Pastoralraum Wasseramt Ost\n\nKontakt:
  Pfr. Samuel Stucki\n\nWeitere Infos:
  https://www.ref-wasseramt.ch/veranstaltung/10185
SUMMARY:Mittagstisch THARAD Derendingen "Zäme ässe und zäme si"
PRIORITY:5
X-MICROSOFT-CDO-IMPORTANCE:1
CLASS:PUBLIC
END:VEVENT
END:VCALENDAR
