BEGIN:VCALENDAR
PRODID:-//kirchenweb.ch gmbh//veranstaltungsausgabe v2.0//DE
VERSION:2.0
METHOD:PUBLISH
BEGIN:VEVENT
DTSTART:20261105T130000Z
DTEND:20261105T140000Z
LOCATION:Reformierte Kirche Zuchwil\, Bühlstrasse 4\, 4528 Zuchwil
TRANSP:OPAQUE
SEQUENCE:0
UID:10206-veranstaltung@ref-wasseramt.ch
DTSTAMP:20251110T093308Z
DESCRIPTION:Kontakt: Frau Sandra Misteli\n\nWeitere Infos:
  https://www.ref-wasseramt.ch/veranstaltung/10206
SUMMARY:Versammlung Reformierter Frauenverein Zuchwil
PRIORITY:5
X-MICROSOFT-CDO-IMPORTANCE:1
CLASS:PUBLIC
END:VEVENT
END:VCALENDAR
