BEGIN:VCALENDAR
PRODID:-//kirchenweb.ch gmbh//veranstaltungsausgabe v2.0//DE
VERSION:2.0
METHOD:PUBLISH
BEGIN:VEVENT
DTSTART:20260518T070000Z
DTEND:20260518T090000Z
LOCATION:Reformierter Gemeindesaal\, \,
TRANSP:OPAQUE
SEQUENCE:0
UID:10222-veranstaltung@ref-wasseramt.ch
DTSTAMP:20251117T125450Z
DESCRIPTION:Kontakt: Bernadette Strähl\n\nWeitere Infos:
  https://www.ref-wasseramt.ch/veranstaltung/10222
SUMMARY:CreaKafi Zuchwil
PRIORITY:5
X-MICROSOFT-CDO-IMPORTANCE:1
CLASS:PUBLIC
END:VEVENT
END:VCALENDAR
