BEGIN:VCALENDAR
PRODID:-//kirchenweb.ch gmbh//veranstaltungsausgabe v2.0//DE
VERSION:2.0
METHOD:PUBLISH
BEGIN:VEVENT
DTSTART:20261128T130000Z
DTEND:20261128T160000Z
LOCATION:Reformierte Kirche Zuchwil\, Bühlstrasse 4\, 4528 Zuchwil
TRANSP:OPAQUE
SEQUENCE:0
UID:10272-veranstaltung@ref-wasseramt.ch
DTSTAMP:20251123T191001Z
DESCRIPTION:Kontakt: SD Matthias Weber\nSD Maribél Jakober\n\nWeitere
  Infos: https://www.ref-wasseramt.ch/veranstaltung/10272
SUMMARY:Weihnachtssingspiel 2026 Zuchwil-Derendingen: Probe
PRIORITY:5
X-MICROSOFT-CDO-IMPORTANCE:1
CLASS:PUBLIC
END:VEVENT
END:VCALENDAR
