BEGIN:VCALENDAR
PRODID:-//kirchenweb.ch gmbh//veranstaltungsausgabe v2.0//DE
VERSION:2.0
METHOD:PUBLISH
BEGIN:VEVENT
DTSTART:20261118T180000Z
DTEND:20261118T200000Z
LOCATION:Reformierte Kirche Zuchwil\, Bühlstrasse 4\, 4528 Zuchwil
TRANSP:OPAQUE
SEQUENCE:0
UID:10298-veranstaltung@ref-wasseramt.ch
DTSTAMP:20260131T123344Z
DESCRIPTION:Kontakt: Martin Joss\n\nWeitere Infos:
  https://www.ref-wasseramt.ch/veranstaltung/10298
SUMMARY:Sitzung Fachkommission Personelles
PRIORITY:5
X-MICROSOFT-CDO-IMPORTANCE:1
CLASS:PUBLIC
END:VEVENT
END:VCALENDAR
