BEGIN:VCALENDAR
PRODID:-//kirchenweb.ch gmbh//veranstaltungsausgabe v2.0//DE
VERSION:2.0
METHOD:PUBLISH
BEGIN:VEVENT
DTSTART:20260602T180000Z
DTEND:20260602T190000Z
LOCATION:Reformierte Kirche Zuchwil\, Bühlstrasse 4\, 4528 Zuchwil
TRANSP:OPAQUE
SEQUENCE:0
UID:10344-veranstaltung@ref-wasseramt.ch
DTSTAMP:20260224T101226Z
DESCRIPTION:Kontakt: Anastasija Theodoridou\n\nWeitere Infos:
  https://www.ref-wasseramt.ch/veranstaltung/10344
SUMMARY:Kirchenchor Wasseramt Probe (Chorprojekt)
PRIORITY:5
X-MICROSOFT-CDO-IMPORTANCE:1
CLASS:PUBLIC
END:VEVENT
END:VCALENDAR
