BEGIN:VCALENDAR
PRODID:-//kirchenweb.ch gmbh//veranstaltungsausgabe v2.0//DE
VERSION:2.0
METHOD:PUBLISH
BEGIN:VEVENT
DTSTART:20261124T190000Z
DTEND:20261124T200000Z
LOCATION:Reformierte Kirche Zuchwil\, Bühlstrasse 4\, 4528 Zuchwil
TRANSP:OPAQUE
SEQUENCE:0
UID:10351-veranstaltung@ref-wasseramt.ch
DTSTAMP:20251201T145057Z
DESCRIPTION:Kontakt: Anastasija Theodoridou\n\nWeitere Infos:
  https://www.ref-wasseramt.ch/veranstaltung/10351
SUMMARY:Kirchenchor Wasseramt Probe (Chorprojekt)
PRIORITY:5
X-MICROSOFT-CDO-IMPORTANCE:1
CLASS:PUBLIC
END:VEVENT
END:VCALENDAR
