BEGIN:VCALENDAR
PRODID:-//kirchenweb.ch gmbh//veranstaltungsausgabe v2.0//DE
VERSION:2.0
METHOD:PUBLISH
BEGIN:VEVENT
DTSTART:20260519T180000Z
DTEND:20260519T190000Z
LOCATION:Reformierte Kirche Derendingen\, Hauptstrasse 41\, 4552
  Derendingen
TRANSP:OPAQUE
SEQUENCE:0
UID:10357-veranstaltung@ref-wasseramt.ch
DTSTAMP:20251201T150329Z
DESCRIPTION:Kontakt: Anastasija Theodoridou \n\nWeitere Infos:
  https://www.ref-wasseramt.ch/veranstaltung/10357
SUMMARY:Kirchenchor Wasseramt Probe
PRIORITY:5
X-MICROSOFT-CDO-IMPORTANCE:1
CLASS:PUBLIC
END:VEVENT
END:VCALENDAR
