BEGIN:VCALENDAR
PRODID:-//kirchenweb.ch gmbh//veranstaltungsausgabe v2.0//DE
VERSION:2.0
METHOD:PUBLISH
BEGIN:VEVENT
DTSTART:20260519T150000Z
DTEND:20260519T190000Z
LOCATION:Reformierte Kirche Derendingen\, Hauptstrasse 41\, 4552
  Derendingen
TRANSP:OPAQUE
SEQUENCE:0
UID:10363-veranstaltung@ref-wasseramt.ch
DTSTAMP:20260417T203254Z
DESCRIPTION:Kontakt: Yvonne Flury / 079 541 67 02\n\nWeitere Infos:
  https://www.ref-wasseramt.ch/veranstaltung/10363
SUMMARY:Strickkreis Derendingen
PRIORITY:5
X-MICROSOFT-CDO-IMPORTANCE:1
CLASS:PUBLIC
END:VEVENT
END:VCALENDAR
