BEGIN:VCALENDAR
PRODID:-//kirchenweb.ch gmbh//veranstaltungsausgabe v2.0//DE
VERSION:2.0
METHOD:PUBLISH
BEGIN:VEVENT
DTSTART:20260506T163000Z
DTEND:20260506T183000Z
LOCATION:Ref. Kirche Kriegstetten\, Dornackerstrasse 2\, 4566 Kriegstetten
TRANSP:OPAQUE
SEQUENCE:0
UID:10375-veranstaltung@ref-wasseramt.ch
DTSTAMP:20251202T152253Z
DESCRIPTION:Kontakt: Sonja Gerber 079 792 80 01\noder \nSD Christine
  Kappeler\n\nWeitere Infos:
  https://www.ref-wasseramt.ch/veranstaltung/10375
SUMMARY:Probe One Spirit
PRIORITY:5
X-MICROSOFT-CDO-IMPORTANCE:1
CLASS:PUBLIC
END:VEVENT
END:VCALENDAR
