BEGIN:VCALENDAR
PRODID:-//kirchenweb.ch gmbh//veranstaltungsausgabe v2.0//DE
VERSION:2.0
METHOD:PUBLISH
BEGIN:VEVENT
DTSTART:20260503T080000Z
DTEND:20260503T100000Z
LOCATION:Ref. Kirche Kriegstetten\, Dornackerstrasse 2\, 4566 Kriegstetten
TRANSP:OPAQUE
SEQUENCE:0
UID:10715-veranstaltung@ref-wasseramt.ch
DTSTAMP:20260205T133858Z
DESCRIPTION:Kontakt: SD Rebekka Matter\n\nWeitere Infos:
  https://www.ref-wasseramt.ch/veranstaltung/10715
SUMMARY:Konfirmationsgottesdienst
PRIORITY:5
X-MICROSOFT-CDO-IMPORTANCE:1
CLASS:PUBLIC
END:VEVENT
END:VCALENDAR
