BEGIN:VCALENDAR
PRODID:-//kirchenweb.ch gmbh//veranstaltungsausgabe v2.0//DE
VERSION:2.0
METHOD:PUBLISH
BEGIN:VEVENT
DTSTART:20261020T120000Z
DTEND:20261020T130000Z
LOCATION:Josefsheim\, Luzernstrasse 49\, 4553 Subingen
TRANSP:OPAQUE
SEQUENCE:0
UID:10742-veranstaltung@ref-wasseramt.ch
DTSTAMP:20251218T163650Z
DESCRIPTION:Alle verwitweten bzw. alleinstehenden Frauen und Männer sind
  herzlich eingeladen. Beisammen sein\, Kaffee/Tee trinken\, plaudern\,
  über dies und jenes austauschen\, miteinander einen Spaziergang machen\,
  jassen oder ein Brettspiel spielen...\nUnser Ziel - gemeinsam
  qualitätvolle Zeit verbringen!\n\n\nKontakt: Frau Theresia Vögtlin 
 \nTel. 079 287 14 16\n\nWeitere Infos:
  https://www.ref-wasseramt.ch/veranstaltung/10742
SUMMARY:Alleinstehenden-Treff
PRIORITY:5
X-MICROSOFT-CDO-IMPORTANCE:1
CLASS:PUBLIC
END:VEVENT
END:VCALENDAR
