BEGIN:VCALENDAR
PRODID:-//kirchenweb.ch gmbh//veranstaltungsausgabe v2.0//DE
VERSION:2.0
METHOD:PUBLISH
BEGIN:VEVENT
DTSTART:20260609T100000Z
DTEND:20260609T110000Z
LOCATION:Café Felber Deitingen\, \,
TRANSP:OPAQUE
SEQUENCE:0
UID:10763-veranstaltung@ref-wasseramt.ch
DTSTAMP:20251221T104935Z
DESCRIPTION:Kontakt: Erika Keller\, 032 614 11 53\n\nWeitere Infos:
  https://www.ref-wasseramt.ch/veranstaltung/10763
SUMMARY:Mittagstisch der Seniorinnen und Senioren in Deitingen
PRIORITY:5
X-MICROSOFT-CDO-IMPORTANCE:1
CLASS:PUBLIC
END:VEVENT
END:VCALENDAR
