BEGIN:VCALENDAR
PRODID:-//kirchenweb.ch gmbh//veranstaltungsausgabe v2.0//DE
VERSION:2.0
METHOD:PUBLISH
BEGIN:VEVENT
DTSTART:20270322T103000Z
DTEND:20270322T113000Z
LOCATION:Restaurant Krone Luterbach\, \,
TRANSP:OPAQUE
SEQUENCE:0
UID:10785-veranstaltung@ref-wasseramt.ch
DTSTAMP:20251221T115154Z
DESCRIPTION:Kontakt: Ursula Flückiger\, 032 682 33 18\n\nWeitere Infos:
  https://www.ref-wasseramt.ch/veranstaltung/10785
SUMMARY:Mittagstisch der Seniorinnen und Senioren in Luterbach
PRIORITY:5
X-MICROSOFT-CDO-IMPORTANCE:1
CLASS:PUBLIC
END:VEVENT
END:VCALENDAR
