BEGIN:VCALENDAR
PRODID:-//kirchenweb.ch gmbh//veranstaltungsausgabe v2.0//DE
VERSION:2.0
METHOD:PUBLISH
BEGIN:VEVENT
DTSTART:20270106T170000Z
DTEND:20270106T213000Z
LOCATION:Saal  \, \,
TRANSP:OPAQUE
SEQUENCE:0
UID:10790-veranstaltung@ref-wasseramt.ch
DTSTAMP:20260227T195916Z
DESCRIPTION:Kontakt: Fritz Suter\n\nWeitere Infos:
  https://www.ref-wasseramt.ch/veranstaltung/10790
SUMMARY:Samariterverein
PRIORITY:5
X-MICROSOFT-CDO-IMPORTANCE:1
CLASS:PUBLIC
END:VEVENT
END:VCALENDAR
