BEGIN:VCALENDAR
PRODID:-//kirchenweb.ch gmbh//veranstaltungsausgabe v2.0//DE
VERSION:2.0
METHOD:PUBLISH
BEGIN:VEVENT
DTSTART:20260818T120000Z
DTEND:20260818T140000Z
LOCATION:Ref. Kirche Kriegstetten\, Dornackerstrasse 2\, 4566 Kriegstetten
TRANSP:OPAQUE
SEQUENCE:0
UID:10803-veranstaltung@ref-wasseramt.ch
DTSTAMP:20260104T191050Z
DESCRIPTION:Frauenzeit - Zeit der besondern Art \n\nPhilosophieren\,
  Diskutieren\, Kurzgeschichten hören. Beim Nachdenken über Gott und die
  Welt nehmen wir uns eine gemütliche Auszeit. Habe ich Ihr Interesse
  geweckt? Ich würde mich sehr freuen\, wenn ich Sie zum einen oder
  anderen Anlass begrüssen dürfte. \n\n\n\nKontakt: Graber Sonja\n
 \nWeitere Infos: https://www.ref-wasseramt.ch/veranstaltung/10803
SUMMARY:Frauenzeit\, Kriegstetten
PRIORITY:5
X-MICROSOFT-CDO-IMPORTANCE:1
CLASS:PUBLIC
END:VEVENT
END:VCALENDAR
