BEGIN:VCALENDAR
PRODID:-//kirchenweb.ch gmbh//veranstaltungsausgabe v2.0//DE
VERSION:2.0
METHOD:PUBLISH
BEGIN:VEVENT
DTSTART:20260714T080000Z
DTEND:20260714T083000Z
LOCATION:Tharad Zentrum für Pflege und Betreuung\, Hauptstr. 50\, 4552
  Derendingen
TRANSP:OPAQUE
SEQUENCE:0
UID:10873-veranstaltung@ref-wasseramt.ch
DTSTAMP:20260112T145119Z
DESCRIPTION:Kontakt: Pfr. Samuel Stucki\n\nWeitere Infos:
  https://www.ref-wasseramt.ch/veranstaltung/10873
SUMMARY:ökum. Andacht im Tharad Zentrum für Pflege und Betreuung
  Derendingen
PRIORITY:5
X-MICROSOFT-CDO-IMPORTANCE:1
CLASS:PUBLIC
END:VEVENT
END:VCALENDAR
