BEGIN:VCALENDAR
PRODID:-//kirchenweb.ch gmbh//veranstaltungsausgabe v2.0//DE
VERSION:2.0
METHOD:PUBLISH
BEGIN:VEVENT
DTSTART:20261222T090000Z
DTEND:20261222T093000Z
LOCATION:Tharad Zentrum für Pflege und Betreuung\, Hauptstr. 50\, 4552
  Derendingen
TRANSP:OPAQUE
SEQUENCE:0
UID:10882-veranstaltung@ref-wasseramt.ch
DTSTAMP:20260303T142631Z
DESCRIPTION:Kontakt: Präd. Heidi Zingg Knöpfli\n\nWeitere Infos:
  https://www.ref-wasseramt.ch/veranstaltung/10882
SUMMARY:ökum. Andacht mit Abendmahl im Tharad Zentrum für Pflege und
  Betreuung Derendingen
PRIORITY:5
X-MICROSOFT-CDO-IMPORTANCE:1
CLASS:PUBLIC
END:VEVENT
END:VCALENDAR
