BEGIN:VCALENDAR
PRODID:-//kirchenweb.ch gmbh//veranstaltungsausgabe v2.0//DE
VERSION:2.0
METHOD:PUBLISH
BEGIN:VEVENT
DTSTART:20260530T130000Z
DTEND:20260530T140000Z
LOCATION:KGH Aeschi\, Bolkenstrasse 24\, 4556 Aeschi
TRANSP:OPAQUE
SEQUENCE:0
UID:10893-veranstaltung@ref-wasseramt.ch
DTSTAMP:20260330T140255Z
DESCRIPTION:Thema: Abendmahl\n\nKontakt: SD Margrit Streit\nSD Rahel von
  Allmen\nMonika Stauffer\n\nWeitere Infos:
  https://www.ref-wasseramt.ch/veranstaltung/10893
SUMMARY:KUW I Gottesdienst mit Abendmahl Aeschi
PRIORITY:5
X-MICROSOFT-CDO-IMPORTANCE:1
CLASS:PUBLIC
END:VEVENT
END:VCALENDAR
