BEGIN:VCALENDAR
PRODID:-//kirchenweb.ch gmbh//veranstaltungsausgabe v2.0//DE
VERSION:2.0
METHOD:PUBLISH
BEGIN:VEVENT
DTSTART:20260613T080000Z
DTEND:20260613T090000Z
LOCATION:Summerhus Subingen\, Summerhusweg 5 \, 4553 Subingen
TRANSP:OPAQUE
SEQUENCE:0
UID:10894-veranstaltung@ref-wasseramt.ch
DTSTAMP:20260330T140404Z
DESCRIPTION:Thema: Abendmahl\n\nKontakt: SD Margrit Streit\nSD Rahel von
  Allmen\nMonika Stauffer\n\nWeitere Infos:
  https://www.ref-wasseramt.ch/veranstaltung/10894
SUMMARY:KUW I Gottesdienst mit Abendmahl Subingen
PRIORITY:5
X-MICROSOFT-CDO-IMPORTANCE:1
CLASS:PUBLIC
END:VEVENT
END:VCALENDAR
