BEGIN:VCALENDAR
PRODID:-//kirchenweb.ch gmbh//veranstaltungsausgabe v2.0//DE
VERSION:2.0
METHOD:PUBLISH
BEGIN:VEVENT
DTSTART:20261024T130000Z
DTEND:20261024T140000Z
LOCATION:KGH Aeschi\, Bolkenstrasse 24\, 4556 Aeschi
TRANSP:OPAQUE
SEQUENCE:0
UID:10895-veranstaltung@ref-wasseramt.ch
DTSTAMP:20260330T141048Z
DESCRIPTION:Thema: Erntedank\n\nKontakt: SD Rahel von Allmen\nMonika
  Stauffer\n\nWeitere Infos:
  https://www.ref-wasseramt.ch/veranstaltung/10895
SUMMARY:KUW II Gottesdienst Aeschi
PRIORITY:5
X-MICROSOFT-CDO-IMPORTANCE:1
CLASS:PUBLIC
END:VEVENT
END:VCALENDAR
