BEGIN:VCALENDAR
PRODID:-//kirchenweb.ch gmbh//veranstaltungsausgabe v2.0//DE
VERSION:2.0
METHOD:PUBLISH
BEGIN:VEVENT
DTSTART:20260906T073000Z
DTEND:20260906T083000Z
LOCATION:Pfarreiheim Baschi Deitingen\, \,
TRANSP:OPAQUE
SEQUENCE:0
UID:10925-veranstaltung@ref-wasseramt.ch
DTSTAMP:20260126T102449Z
DESCRIPTION:Kontakt: web.luterbach@ref-wasseramt.ch\n\nWeitere Infos:
  https://www.ref-wasseramt.ch/veranstaltung/10925
SUMMARY:Gottesdienst im Baschi Deitingen
PRIORITY:5
X-MICROSOFT-CDO-IMPORTANCE:1
CLASS:PUBLIC
END:VEVENT
END:VCALENDAR
