BEGIN:VCALENDAR
PRODID:-//kirchenweb.ch gmbh//veranstaltungsausgabe v2.0//DE
VERSION:2.0
METHOD:PUBLISH
BEGIN:VEVENT
DTSTART:20260823T080000Z
DTEND:20260823T090000Z
LOCATION:Reformierte Kirche Luterbach\, Schachenstrasse 2\, 4542 Luterbach
TRANSP:OPAQUE
SEQUENCE:0
UID:10940-veranstaltung@ref-wasseramt.ch
DTSTAMP:20260126T112929Z
DESCRIPTION:Kontakt: web.luterbach@ref-wasseramt.ch\n\nWeitere Infos:
  https://www.ref-wasseramt.ch/veranstaltung/10940
SUMMARY:Gottesdienst in Luterbach
PRIORITY:5
X-MICROSOFT-CDO-IMPORTANCE:1
CLASS:PUBLIC
END:VEVENT
END:VCALENDAR
