BEGIN:VCALENDAR
PRODID:-//kirchenweb.ch gmbh//veranstaltungsausgabe v2.0//DE
VERSION:2.0
METHOD:PUBLISH
BEGIN:VEVENT
DTSTART:20260509T160000Z
DTEND:20260509T170000Z
LOCATION:Reformierte Kirche Luterbach\, Schachenstrasse 2\, 4542 Luterbach
TRANSP:OPAQUE
SEQUENCE:0
UID:10948-veranstaltung@ref-wasseramt.ch
DTSTAMP:20260410T134150Z
DESCRIPTION:Kontakt: SD i.A Carsten Knigge\n\nWeitere Infos:
  https://www.ref-wasseramt.ch/veranstaltung/10948
SUMMARY:Pizza-Andacht in Luterbach
PRIORITY:5
X-MICROSOFT-CDO-IMPORTANCE:1
CLASS:PUBLIC
END:VEVENT
END:VCALENDAR
