BEGIN:VCALENDAR
PRODID:-//kirchenweb.ch gmbh//veranstaltungsausgabe v2.0//DE
VERSION:2.0
METHOD:PUBLISH
BEGIN:VEVENT
DTSTART:20260621T080000Z
DTEND:20260621T090000Z
LOCATION:Schachen Deitingen\, \,
TRANSP:OPAQUE
SEQUENCE:0
UID:10949-veranstaltung@ref-wasseramt.ch
DTSTAMP:20260126T114445Z
DESCRIPTION:Kontakt: SD i.A Carsten Knigge\n\nWeitere Infos:
  https://www.ref-wasseramt.ch/veranstaltung/10949
SUMMARY:Gottesdienst beim Fass an der Aare
PRIORITY:5
X-MICROSOFT-CDO-IMPORTANCE:1
CLASS:PUBLIC
END:VEVENT
END:VCALENDAR
