BEGIN:VCALENDAR
PRODID:-//kirchenweb.ch gmbh//veranstaltungsausgabe v2.0//DE
VERSION:2.0
METHOD:PUBLISH
BEGIN:VEVENT
DTSTART:20260830T080000Z
DTEND:20260830T090000Z
LOCATION:bei der Turnhalle\, \,
TRANSP:OPAQUE
SEQUENCE:0
UID:10950-veranstaltung@ref-wasseramt.ch
DTSTAMP:20260126T115151Z
DESCRIPTION:Kontakt: SD i.A Carsten Knigge\n\nWeitere Infos:
  https://www.ref-wasseramt.ch/veranstaltung/10950
SUMMARY:Ökum. Dorfplatzgottesdienst in Luterbach
PRIORITY:5
X-MICROSOFT-CDO-IMPORTANCE:1
CLASS:PUBLIC
END:VEVENT
END:VCALENDAR
