BEGIN:VCALENDAR
PRODID:-//kirchenweb.ch gmbh//veranstaltungsausgabe v2.0//DE
VERSION:2.0
METHOD:PUBLISH
BEGIN:VEVENT
DTSTART:20261128T170000Z
DTEND:20261128T180000Z
LOCATION:Reformierte Kirche Luterbach\, Schachenstrasse 2\, 4542 Luterbach
TRANSP:OPAQUE
SEQUENCE:0
UID:10952-veranstaltung@ref-wasseramt.ch
DTSTAMP:20260126T115857Z
DESCRIPTION:Kontakt: SD i.A Carsten Knigge\n\nWeitere Infos:
  https://www.ref-wasseramt.ch/veranstaltung/10952
SUMMARY:Abendgottesdienst in Luterbach
PRIORITY:5
X-MICROSOFT-CDO-IMPORTANCE:1
CLASS:PUBLIC
END:VEVENT
END:VCALENDAR
