BEGIN:VCALENDAR
PRODID:-//kirchenweb.ch gmbh//veranstaltungsausgabe v2.0//DE
VERSION:2.0
METHOD:PUBLISH
BEGIN:VEVENT
DTSTART:20261219T180000Z
DTEND:20261219T190000Z
LOCATION:Reformierte Kirche Derendingen\, Hauptstrasse 41\, 4552
  Derendingen
TRANSP:OPAQUE
SEQUENCE:0
UID:10967-veranstaltung@ref-wasseramt.ch
DTSTAMP:20260305T154309Z
DESCRIPTION:Kontakt: Pfr. Samuel Stucki\n\nWeitere Infos:
  https://www.ref-wasseramt.ch/veranstaltung/10967
SUMMARY:Arco Fiati
PRIORITY:5
X-MICROSOFT-CDO-IMPORTANCE:1
CLASS:PUBLIC
END:VEVENT
END:VCALENDAR
