BEGIN:VCALENDAR
PRODID:-//kirchenweb.ch gmbh//veranstaltungsausgabe v2.0//DE
VERSION:2.0
METHOD:PUBLISH
BEGIN:VEVENT
DTSTART:20260506T080000Z
DTEND:20260506T090000Z
LOCATION:Stiftung Blumenfeld Zuchwil\, Gartenstrasse 24\, 4528 Zuchwil
TRANSP:OPAQUE
SEQUENCE:0
UID:10970-veranstaltung@ref-wasseramt.ch
DTSTAMP:20260303T143247Z
DESCRIPTION:Kontakt: Pfr. Samuel Stucki\n\nWeitere Infos:
  https://www.ref-wasseramt.ch/veranstaltung/10970
SUMMARY:Ökum. Andacht Zuchwil Stiftung Blumenfeld
PRIORITY:5
X-MICROSOFT-CDO-IMPORTANCE:1
CLASS:PUBLIC
END:VEVENT
END:VCALENDAR
