BEGIN:VCALENDAR
PRODID:-//kirchenweb.ch gmbh//veranstaltungsausgabe v2.0//DE
VERSION:2.0
METHOD:PUBLISH
BEGIN:VEVENT
DTSTART;VALUE=DATE:20260425
DTEND;VALUE=DATE:20260426
LOCATION:Birchiwald Zuchwil\, \, 4528 Zuchwil
TRANSP:OPAQUE
SEQUENCE:0
UID:11063-veranstaltung@ref-wasseramt.ch
DTSTAMP:20260205T133656Z
DESCRIPTION:Ab Montag 23. März bis Donnerstag 30. April 2026 lädt euch
  das Familienforum Zuchwil zusammen mit der Röm.-Kath. Pfarrei Zuchwil
  und der Ref. Kirchgemeinde Wasseramt zu einem Spaziergang auf dem
  Frühlingsweg\, Oster- und dem Lebensweg im Birchi ein. \n\nDen
  Situationsplan finden Sie hier oder bei der Kath. und/oder Ref. Kirche
  Zuchwil:\n\n\n\nKontakt: Matthias Weber\, Sozialdiakon\n\nWeitere Infos:
  https://www.ref-wasseramt.ch/veranstaltung/11063
SUMMARY:Oster- und Lebensweg / Frühlingsweg im Birchi
PRIORITY:5
X-MICROSOFT-CDO-IMPORTANCE:1
CLASS:PUBLIC
END:VEVENT
END:VCALENDAR
