BEGIN:VCALENDAR
PRODID:-//kirchenweb.ch gmbh//veranstaltungsausgabe v2.0//DE
VERSION:2.0
METHOD:PUBLISH
BEGIN:VEVENT
DTSTART;VALUE=DATE:20260920
DTEND;VALUE=DATE:20260921
LOCATION:Bauernhof Familie Marti Derendingen\, \,
TRANSP:OPAQUE
SEQUENCE:0
UID:11084-veranstaltung@ref-wasseramt.ch
DTSTAMP:20260207T155429Z
DESCRIPTION:Kontakt: web.derendingen@ref-wasseramt.ch\n\nWeitere Infos:
  https://www.ref-wasseramt.ch/veranstaltung/11084
SUMMARY:Erntedank GD auf Bauernhof Derendingen
PRIORITY:5
X-MICROSOFT-CDO-IMPORTANCE:1
CLASS:PUBLIC
END:VEVENT
END:VCALENDAR
