BEGIN:VCALENDAR
PRODID:-//kirchenweb.ch gmbh//veranstaltungsausgabe v2.0//DE
VERSION:2.0
METHOD:PUBLISH
BEGIN:VEVENT
DTSTART:20260513T130000Z
DTEND:20260513T150000Z
LOCATION:Ref. Kirche Derendingen\, \,
TRANSP:OPAQUE
SEQUENCE:0
UID:11086-veranstaltung@ref-wasseramt.ch
DTSTAMP:20260207T161733Z
DESCRIPTION:Kontakt: web.derendingen@ref-wasseramt.ch\n\nWeitere Infos:
  https://www.ref-wasseramt.ch/veranstaltung/11086
SUMMARY:Katechese Sitzung Derendngen
PRIORITY:5
X-MICROSOFT-CDO-IMPORTANCE:1
CLASS:PUBLIC
END:VEVENT
END:VCALENDAR
