BEGIN:VCALENDAR
PRODID:-//kirchenweb.ch gmbh//veranstaltungsausgabe v2.0//DE
VERSION:2.0
METHOD:PUBLISH
BEGIN:VEVENT
DTSTART:20260825T120000Z
DTEND:20260825T130000Z
LOCATION:Josefsheim\, \, 4553 Subingen
TRANSP:OPAQUE
SEQUENCE:0
UID:11144-veranstaltung@ref-wasseramt.ch
DTSTAMP:20260212T091210Z
DESCRIPTION:Andacht\, Lotto spielen\, Zvieri essen in gemütlicher Runde
 \nmit Gästen aus Deitingen\n\nKontakt: Pfrn. Melanie Pauly\nkath.
  Seelsorgerin Rosa Tirler\n\nWeitere Infos:
  https://www.ref-wasseramt.ch/veranstaltung/11144
SUMMARY:Ökum. Seniorennachmittag im Josefsheim
PRIORITY:5
X-MICROSOFT-CDO-IMPORTANCE:1
CLASS:PUBLIC
END:VEVENT
END:VCALENDAR
