BEGIN:VCALENDAR
PRODID:-//kirchenweb.ch gmbh//veranstaltungsausgabe v2.0//DE
VERSION:2.0
METHOD:PUBLISH
BEGIN:VEVENT
DTSTART:20260929T120000Z
DTEND:20260929T130000Z
LOCATION:Summerhus Subingen\, Summerhusweg 5 \, 4553 Subingen
TRANSP:OPAQUE
SEQUENCE:0
UID:11145-veranstaltung@ref-wasseramt.ch
DTSTAMP:20260219T160000Z
DESCRIPTION:Hanni Schmid bietet uns wieder berndeutsche Geschichten.
 \nMusikalische Umrahmung von Elsbeth Rösch\n\nKontakt: Pfrn. Melanie
  Pauly\nkath. Seelsorgerin Rosa Tirler\n\nWeitere Infos:
  https://www.ref-wasseramt.ch/veranstaltung/11145
SUMMARY:Ökum. Seniorennachmittag im Summerhus
PRIORITY:5
X-MICROSOFT-CDO-IMPORTANCE:1
CLASS:PUBLIC
END:VEVENT
END:VCALENDAR
