BEGIN:VCALENDAR
PRODID:-//kirchenweb.ch gmbh//veranstaltungsausgabe v2.0//DE
VERSION:2.0
METHOD:PUBLISH
BEGIN:VEVENT
DTSTART:20261124T130000Z
DTEND:20261124T140000Z
LOCATION:Summerhus Subingen\, Summerhusweg 5 \, 4553 Subingen
TRANSP:OPAQUE
SEQUENCE:0
UID:11147-veranstaltung@ref-wasseramt.ch
DTSTAMP:20260212T092859Z
DESCRIPTION:Caroline Beiner und Thomas Zurschmiede verzaubern uns
  musikalisch mit Bratsche und Klarinette\n\nKontakt: Pfrn. Melanie Pauly
 \nkath. Seelsorgerin Rosa Tirler\n\nWeitere Infos:
  https://www.ref-wasseramt.ch/veranstaltung/11147
SUMMARY:Ökum. Seniorennachmittag im Summerhus
PRIORITY:5
X-MICROSOFT-CDO-IMPORTANCE:1
CLASS:PUBLIC
END:VEVENT
END:VCALENDAR
