BEGIN:VCALENDAR
PRODID:-//kirchenweb.ch gmbh//veranstaltungsausgabe v2.0//DE
VERSION:2.0
METHOD:PUBLISH
BEGIN:VEVENT
DTSTART:20260428T073000Z
DTEND:20260428T150000Z
LOCATION:Subingen\, \, 4553 Subingen
TRANSP:OPAQUE
SEQUENCE:0
UID:11149-veranstaltung@ref-wasseramt.ch
DTSTAMP:20260423T094515Z
DESCRIPTION:Carfahrt nach Oberwil ZG\nBesuch der Kirche Bruder Klaus mit
  den Bildern von Ferdinand Gehr.\ngemeinsames Mittagessen\nAbfahrt: 9.30
  Uhr beim Rest. Linde\nRückkehr um ca. 16.30 Uhr\n\n\nKontakt: Pfrn.
  Melanie Pauly\nRosa Tirler\n\nWeitere Infos:
  https://www.ref-wasseramt.ch/veranstaltung/11149
SUMMARY:Ökum. Seniorenausflug Subingen
PRIORITY:5
X-MICROSOFT-CDO-IMPORTANCE:1
CLASS:PUBLIC
END:VEVENT
END:VCALENDAR
