BEGIN:VCALENDAR
PRODID:-//kirchenweb.ch gmbh//veranstaltungsausgabe v2.0//DE
VERSION:2.0
METHOD:PUBLISH
BEGIN:VEVENT
DTSTART:20260520T123000Z
DTEND:20260520T143000Z
LOCATION:Baschi Deitingen\, \, 4543 Deitingen
TRANSP:OPAQUE
SEQUENCE:0
UID:11165-veranstaltung@ref-wasseramt.ch
DTSTAMP:20260217T072411Z
DESCRIPTION:Warten in einem Bundesasylzentrum ist eine schwierige Aufgabe.
  Der Baschi-Treff soll Begegnungen von Mensch zu Mensch über sprachliche
  und kulturelle Hürden hinweg ermöglichen\, bei Kaffee\, Tee\, Kuchen\,
  Früchten und Spiel.\n\nKontakt: Caroline Beiner\n\nWeitere Infos:
  https://www.ref-wasseramt.ch/veranstaltung/11165
SUMMARY:Baschi-Treff ein Begegnungsangebot für die Bewohnerinnen und
  Bewohner des BAZ und der Bevölkerung
PRIORITY:5
X-MICROSOFT-CDO-IMPORTANCE:1
CLASS:PUBLIC
END:VEVENT
END:VCALENDAR
