BEGIN:VCALENDAR
PRODID:-//kirchenweb.ch gmbh//veranstaltungsausgabe v2.0//DE
VERSION:2.0
METHOD:PUBLISH
BEGIN:VEVENT
DTSTART:20260613T163000Z
DTEND:20260613T173000Z
LOCATION:Reformierte Kirche Zuchwil\, Bühlstrasse 4\, 4528 Zuchwil
TRANSP:OPAQUE
SEQUENCE:0
UID:11195-veranstaltung@ref-wasseramt.ch
DTSTAMP:20260227T074710Z
DESCRIPTION:Sommerfest im Kirchengarten mit diverser Unterhaltung\,
  Grill\, Kuchenbuffet und dem Gottesdienst um 18 Uhr in der Kirche mit dem
  Kirchenchor Wasseramt (Chorprojekt)\n\nKontakt: Pfarrer Simon Taverna\n
 \nWeitere Infos: https://www.ref-wasseramt.ch/veranstaltung/11195
SUMMARY:Sommerfest Gottesdienst Zuchwil
PRIORITY:5
X-MICROSOFT-CDO-IMPORTANCE:1
CLASS:PUBLIC
END:VEVENT
END:VCALENDAR
