BEGIN:VCALENDAR
PRODID:-//kirchenweb.ch gmbh//veranstaltungsausgabe v2.0//DE
VERSION:2.0
METHOD:PUBLISH
BEGIN:VEVENT
DTSTART:20261204T153000Z
DTEND:20261204T163000Z
LOCATION:Summerhus Subingen\, Summerhusweg 5 \, 4553 Subingen
TRANSP:OPAQUE
SEQUENCE:0
UID:11210-veranstaltung@ref-wasseramt.ch
DTSTAMP:20260226T085220Z
DESCRIPTION:Kontakt: web.subingenaeschi@ref-wasseramt.ch\n\nWeitere Infos:
  https://www.ref-wasseramt.ch/veranstaltung/11210
SUMMARY:Ökum. Samichlausenfiir beim Summerhus
PRIORITY:5
X-MICROSOFT-CDO-IMPORTANCE:1
CLASS:PUBLIC
END:VEVENT
END:VCALENDAR
