BEGIN:VCALENDAR
PRODID:-//kirchenweb.ch gmbh//veranstaltungsausgabe v2.0//DE
VERSION:2.0
METHOD:PUBLISH
BEGIN:VEVENT
DTSTART:20260501T170000Z
DTEND:20260501T190000Z
LOCATION:Reformierte Kirche Zuchwil\, Bühlstrasse 4\, 4528 Zuchwil
TRANSP:OPAQUE
SEQUENCE:0
UID:11213-veranstaltung@ref-wasseramt.ch
DTSTAMP:20260226T132548Z
DESCRIPTION:Kontakt: Patricia Häberli\n\nWeitere Infos:
  https://www.ref-wasseramt.ch/veranstaltung/11213
SUMMARY:Laienmusik Zuchwil Probe
PRIORITY:5
X-MICROSOFT-CDO-IMPORTANCE:1
CLASS:PUBLIC
END:VEVENT
END:VCALENDAR
