BEGIN:VCALENDAR
PRODID:-//kirchenweb.ch gmbh//veranstaltungsausgabe v2.0//DE
VERSION:2.0
METHOD:PUBLISH
BEGIN:VEVENT
DTSTART:20260509T080000Z
DTEND:20260509T090000Z
LOCATION:Garten Häberli\, Bahnweg 4\, 4528 Zuchwil
TRANSP:OPAQUE
SEQUENCE:0
UID:11215-veranstaltung@ref-wasseramt.ch
DTSTAMP:20260226T132715Z
DESCRIPTION:Kontakt: Patricia Häberli\n\nWeitere Infos:
  https://www.ref-wasseramt.ch/veranstaltung/11215
SUMMARY:Laienmusik Zuchwil Hauptprobe
PRIORITY:5
X-MICROSOFT-CDO-IMPORTANCE:1
CLASS:PUBLIC
END:VEVENT
END:VCALENDAR
