BEGIN:VCALENDAR
PRODID:-//kirchenweb.ch gmbh//veranstaltungsausgabe v2.0//DE
VERSION:2.0
METHOD:PUBLISH
BEGIN:VEVENT
DTSTART:20261025T170000Z
DTEND:20261025T180000Z
LOCATION:Reformierte Kirche Derendingen\, Hauptstrasse 41\, 4552
  Derendingen
TRANSP:OPAQUE
SEQUENCE:0
UID:11237-veranstaltung@ref-wasseramt.ch
DTSTAMP:20260305T152924Z
DESCRIPTION:Film "Betty Bossi"\n\nKontakt: JA Rebekka Matter\nSusanne
  Wettstein\n\nWeitere Infos:
  https://www.ref-wasseramt.ch/veranstaltung/11237
SUMMARY:Film in der Kirche Derendingen
PRIORITY:5
X-MICROSOFT-CDO-IMPORTANCE:1
CLASS:PUBLIC
END:VEVENT
END:VCALENDAR
