BEGIN:VCALENDAR
PRODID:-//kirchenweb.ch gmbh//veranstaltungsausgabe v2.0//DE
VERSION:2.0
METHOD:PUBLISH
BEGIN:VEVENT
DTSTART:20261129T170000Z
DTEND:20261129T180000Z
LOCATION:Reformierte Kirche Derendingen\, Hauptstrasse 41\, 4552
  Derendingen
TRANSP:OPAQUE
SEQUENCE:0
UID:11238-veranstaltung@ref-wasseramt.ch
DTSTAMP:20260305T153013Z
DESCRIPTION:Film "Aschenbrödel"\n\nKontakt: JA Rebekka Matter\nSusanne
  Wettstein\n\nWeitere Infos:
  https://www.ref-wasseramt.ch/veranstaltung/11238
SUMMARY:Film in der Kirche Derendingen
PRIORITY:5
X-MICROSOFT-CDO-IMPORTANCE:1
CLASS:PUBLIC
END:VEVENT
END:VCALENDAR
