BEGIN:VCALENDAR
PRODID:-//kirchenweb.ch gmbh//veranstaltungsausgabe v2.0//DE
VERSION:2.0
METHOD:PUBLISH
BEGIN:VEVENT
DTSTART:20261101T100000Z
DTEND:20261101T110000Z
LOCATION:Friedhof  Derendingen\, \, 4552 Derendingen
TRANSP:OPAQUE
SEQUENCE:0
UID:11239-veranstaltung@ref-wasseramt.ch
DTSTAMP:20260305T153404Z
DESCRIPTION:Kontakt: Esther Holzer\nPräd. Heidi Zingg Knöpfli\n\nWeitere
  Infos: https://www.ref-wasseramt.ch/veranstaltung/11239
SUMMARY:Ökum. Andacht zu Allerheiligen Derendingen
PRIORITY:5
X-MICROSOFT-CDO-IMPORTANCE:1
CLASS:PUBLIC
END:VEVENT
END:VCALENDAR
